BEGIN:VCALENDAR
VERSION:2.0
PRODID:-//Theater am Werk - ECPv6.15.20//NONSGML v1.0//EN
CALSCALE:GREGORIAN
METHOD:PUBLISH
X-WR-CALNAME:Theater am Werk
X-ORIGINAL-URL:https://theater-am-werk.at
X-WR-CALDESC:Veranstaltungen für Theater am Werk
REFRESH-INTERVAL;VALUE=DURATION:PT1H
X-Robots-Tag:noindex
X-PUBLISHED-TTL:PT1H
BEGIN:VTIMEZONE
TZID:Europe/Vienna
BEGIN:DAYLIGHT
TZOFFSETFROM:+0100
TZOFFSETTO:+0200
TZNAME:CEST
DTSTART:20250330T010000
END:DAYLIGHT
BEGIN:STANDARD
TZOFFSETFROM:+0200
TZOFFSETTO:+0100
TZNAME:CET
DTSTART:20251026T010000
END:STANDARD
BEGIN:DAYLIGHT
TZOFFSETFROM:+0100
TZOFFSETTO:+0200
TZNAME:CEST
DTSTART:20260329T010000
END:DAYLIGHT
BEGIN:STANDARD
TZOFFSETFROM:+0200
TZOFFSETTO:+0100
TZNAME:CET
DTSTART:20261025T010000
END:STANDARD
BEGIN:DAYLIGHT
TZOFFSETFROM:+0100
TZOFFSETTO:+0200
TZNAME:CEST
DTSTART:20270328T010000
END:DAYLIGHT
BEGIN:STANDARD
TZOFFSETFROM:+0200
TZOFFSETTO:+0100
TZNAME:CET
DTSTART:20271031T010000
END:STANDARD
END:VTIMEZONE
BEGIN:VEVENT
DTSTART;TZID=Europe/Vienna:20260423T150000
DTEND;TZID=Europe/Vienna:20260423T153000
DTSTAMP:20260423T051518
CREATED:20260310T112135Z
LAST-MODIFIED:20260310T112135Z
UID:10000165-1776956400-1776958200@theater-am-werk.at
SUMMARY:Cinello mit der roten Nase I gestreift
DESCRIPTION:Das Theater am Werk freut sich\, mit der Cinello-Reihe erstmals die Jeunesse am Haus begrüßen zu dürfen: Cinello ist ein interaktives Konzert\, das Bewegung\, Wahrnehmungsspiele und Musik kombiniert\, um Kleinkinder spielerisch an Klänge heranzuführen.
URL:https://theater-am-werk.at/spielplan/cinello-mit-der-roten-nase-i-gestreift/2026-04-23/
LOCATION:Kabelwerk\, Oswaldgasse 35A\, Wien\, 1120\, Austria
ORGANIZER;CN="Theater am Werk":MAILTO:reservierung@theater-am-werk.at
END:VEVENT
BEGIN:VEVENT
DTSTART;TZID=Europe/Vienna:20260423T193000
DTEND;TZID=Europe/Vienna:20260423T210000
DTSTAMP:20260423T051518
CREATED:20260421T075556Z
LAST-MODIFIED:20260421T075557Z
UID:10000234-1776972600-1776978000@theater-am-werk.at
SUMMARY:L.O.V.E.
DESCRIPTION:Vier Spieler*innen versuchen in der neuen Produktion von toxic dreams unter willkürlichen formalen Einschränkungen mehrere Liebesgeschichten zu konstruieren. Es sind Liebesgeschichten ohne Sentimentalität – mathematisch\, tragisch und komisch zugleich. \n-> ALLE INFOS ZUR PRODUKTION
URL:https://theater-am-werk.at/spielplan/l-o-v-e-2/
LOCATION:Petersplatz\, Petersplatz 1\, Wien\, 1010
ORGANIZER;CN="Theater am Werk":MAILTO:reservierung@theater-am-werk.at
END:VEVENT
BEGIN:VEVENT
DTSTART;TZID=Europe/Vienna:20260423T193000
DTEND;TZID=Europe/Vienna:20260423T220000
DTSTAMP:20260423T051518
CREATED:20260204T152544Z
LAST-MODIFIED:20260313T163002Z
UID:10000178-1776972600-1776981600@theater-am-werk.at
SUMMARY:Die Quelle
DESCRIPTION:Der BAWAG-Skandal oder auch die IBIZA -Affäre: Hinter diesen Skandalen stecken Menschen\, die Journalist*innen sensible Informationen gegeben haben. Gemeinsam mit DOSSIER stellt Regisseur Calle Fuhr nun eine dieser Quellen ins Zentrum seines Stücks. \n-> ALLE INFOS ZUR PRODUKTION
URL:https://theater-am-werk.at/spielplan/die-quelle/2026-04-23/
LOCATION:Kabelwerk\, Oswaldgasse 35A\, Wien\, 1120\, Austria
ORGANIZER;CN="Theater am Werk":MAILTO:reservierung@theater-am-werk.at
END:VEVENT
END:VCALENDAR